BEGIN:VCALENDAR
VERSION:2.0
PRODID:-//hacksw/handcal//NONSGML v1.0//EN
CALSCALE:GREGORIAN
BEGIN:VEVENT
DTSTART:20240617T110000Z
DTEND:20240617T120000Z
UID:e27472
DTSTAMP:20260423T053235Z
LOCATION:Max and Lillian Candiotty Building
DESCRIPTION:Employing Phage Display Technology for Developing Potential Human Therapeutic Antibodies
SUMMARY:Employing Phage Display Technology for Developing Potential Human Therapeutic Antibodies
END:VEVENT
END:VCALENDAR