BEGIN:VCALENDAR
VERSION:2.0
PRODID:-//hacksw/handcal//NONSGML v1.0//EN
CALSCALE:GREGORIAN
BEGIN:VEVENT
DTSTART:20240613T060000Z
DTEND:20240613T060000Z
UID:e27480
DTSTAMP:20260419T185517Z
LOCATION:
DESCRIPTION:MSc defense seminar by Lior Peretz (Dr. Yonatan Stelzer Lab)
SUMMARY:MSc defense seminar by Lior Peretz (Dr. Yonatan Stelzer Lab)
END:VEVENT
END:VCALENDAR