BEGIN:VCALENDAR
VERSION:2.0
PRODID:-//hacksw/handcal//NONSGML v1.0//EN
CALSCALE:GREGORIAN
BEGIN:VEVENT
DTSTART:20240623T110000Z
DTEND:20240623T133000Z
UID:e27490
DTSTAMP:20260423T053951Z
LOCATION:The David Lopatie Conference Centre
DESCRIPTION:Pre-SAAC Symposium on Developmental Biology and Regenerative Medicine
SUMMARY:Pre-SAAC Symposium on Developmental Biology and Regenerative Medicine
END:VEVENT
END:VCALENDAR