BEGIN:VCALENDAR
VERSION:2.0
PRODID:-//hacksw/handcal//NONSGML v1.0//EN
CALSCALE:GREGORIAN
BEGIN:VEVENT
DTSTART:20240625T080000Z
DTEND:20240625T090000Z
UID:e27492
DTSTAMP:20260423T053250Z
LOCATION:Gerhard M.J. Schmidt Lecture Hall
DESCRIPTION:Molecular Manipulation of Heterogeneous Electrocatalysis Using Metal-Organic Frameworks
SUMMARY:Molecular Manipulation of Heterogeneous Electrocatalysis Using Metal-Organic Frameworks
END:VEVENT
END:VCALENDAR