BEGIN:VCALENDAR
VERSION:2.0
PRODID:-//hacksw/handcal//NONSGML v1.0//EN
CALSCALE:GREGORIAN
BEGIN:VEVENT
DTSTART:20240711T120000Z
DTEND:20240711T120000Z
UID:e27500
DTSTAMP:20260422T120917Z
LOCATION:
DESCRIPTION:Seminar for MSc thesis defense
SUMMARY:Seminar for MSc thesis defense
END:VEVENT
END:VCALENDAR