BEGIN:VCALENDAR
VERSION:2.0
PRODID:-//hacksw/handcal//NONSGML v1.0//EN
CALSCALE:GREGORIAN
BEGIN:VEVENT
DTSTART:20240625T093000Z
DTEND:20240625T093000Z
UID:e27508
DTSTAMP:20260423T135842Z
LOCATION:Gerhard M.J. Schmidt Lecture Hall
DESCRIPTION:Reading Minds & Machines-AND-The Wisdom of a Crowd of Brains
SUMMARY:Reading Minds & Machines-AND-The Wisdom of a Crowd of Brains
END:VEVENT
END:VCALENDAR