BEGIN:VCALENDAR
VERSION:2.0
PRODID:-//hacksw/handcal//NONSGML v1.0//EN
CALSCALE:GREGORIAN
BEGIN:VEVENT
DTSTART:20240709T093000Z
DTEND:20240709T103000Z
UID:e27526
DTSTAMP:20260422T120915Z
LOCATION:Gerhard M.J. Schmidt Lecture Hall
DESCRIPTION:This decision\, not just the average decision:  Factors contributing to one single perceptual judgment
SUMMARY:This decision\, not just the average decision:  Factors contributing to one single perceptual judgment
END:VEVENT
END:VCALENDAR