BEGIN:VCALENDAR
VERSION:2.0
PRODID:-//hacksw/handcal//NONSGML v1.0//EN
CALSCALE:GREGORIAN
BEGIN:VEVENT
DTSTART:20240711T080000Z
DTEND:20240711T090000Z
UID:e27536
DTSTAMP:20260422T204836Z
LOCATION:Gerhard M.J. Schmidt Lecture Hall
DESCRIPTION:Designing Language Models to Think Like Humans
SUMMARY:Designing Language Models to Think Like Humans
END:VEVENT
END:VCALENDAR