BEGIN:VCALENDAR
VERSION:2.0
PRODID:-//hacksw/handcal//NONSGML v1.0//EN
CALSCALE:GREGORIAN
BEGIN:VEVENT
DTSTART:20240721T110000Z
DTEND:20240721T120000Z
UID:e27540
DTSTAMP:20260422T120917Z
LOCATION:Nella and Leon Benoziyo Building for Plant and Environmental Sciences
DESCRIPTION:PhD thesis defense seminar- Yemima Duchin-Rapp
SUMMARY:PhD thesis defense seminar- Yemima Duchin-Rapp
END:VEVENT
END:VCALENDAR