BEGIN:VCALENDAR
VERSION:2.0
PRODID:-//hacksw/handcal//NONSGML v1.0//EN
CALSCALE:GREGORIAN
BEGIN:VEVENT
DTSTART:20240729T070000Z
DTEND:20240729T080000Z
UID:e27542
DTSTAMP:20260421T180759Z
LOCATION:Nella and Leon Benoziyo Building for Plant and Environmental Sciences
DESCRIPTION:PhD thesis defense seminar- Roee Ben Nissan
SUMMARY:PhD thesis defense seminar- Roee Ben Nissan
END:VEVENT
END:VCALENDAR