BEGIN:VCALENDAR
VERSION:2.0
PRODID:-//hacksw/handcal//NONSGML v1.0//EN
CALSCALE:GREGORIAN
BEGIN:VEVENT
DTSTART:20240710T110000Z
DTEND:20240710T123000Z
UID:e27552
DTSTAMP:20260422T120922Z
LOCATION:George and Esther Sagan Students' Residence Hall
DESCRIPTION:ABC CHATS: Noam Solomon-Immunai
SUMMARY:ABC CHATS: Noam Solomon-Immunai
END:VEVENT
END:VCALENDAR