BEGIN:VCALENDAR
VERSION:2.0
PRODID:-//hacksw/handcal//NONSGML v1.0//EN
CALSCALE:GREGORIAN
BEGIN:VEVENT
DTSTART:20240725T080000Z
DTEND:20240725T090000Z
UID:e27556
DTSTAMP:20260422T120927Z
LOCATION:Nella and Leon Benoziyo Building for Plant and Environmental Sciences
DESCRIPTION:MSc thesis defense- Ari Isbi
SUMMARY:MSc thesis defense- Ari Isbi
END:VEVENT
END:VCALENDAR