BEGIN:VCALENDAR
VERSION:2.0
PRODID:-//hacksw/handcal//NONSGML v1.0//EN
CALSCALE:GREGORIAN
BEGIN:VEVENT
DTSTART:20240725T091500Z
DTEND:20240725T101500Z
UID:e27562
DTSTAMP:20260422T120923Z
LOCATION:
DESCRIPTION:Vision and AI
SUMMARY:Vision and AI
END:VEVENT
END:VCALENDAR