BEGIN:VCALENDAR
VERSION:2.0
PRODID:-//hacksw/handcal//NONSGML v1.0//EN
CALSCALE:GREGORIAN
BEGIN:VEVENT
DTSTART:20250316T050000Z
DTEND:20250316T050000Z
UID:e27576
DTSTAMP:20260420T173719Z
LOCATION:The David Lopatie Conference Centre
DESCRIPTION:EPScon 2025 - The 14th Students' Conference for Earth and Planetary Sciences
SUMMARY:EPScon 2025 - The 14th Students' Conference for Earth and Planetary Sciences
END:VEVENT
END:VCALENDAR