BEGIN:VCALENDAR
VERSION:2.0
PRODID:-//hacksw/handcal//NONSGML v1.0//EN
CALSCALE:GREGORIAN
BEGIN:VEVENT
DTSTART:20250122T080000Z
DTEND:20250122T090000Z
UID:e27586
DTSTAMP:20260420T154957Z
LOCATION:Arthur and Rochelle Belfer Building for Biomedical Research
DESCRIPTION:"Though the city used to be called Luz" –SIRT6\, aging and beyond.
SUMMARY:"Though the city used to be called Luz" –SIRT6\, aging and beyond.
END:VEVENT
END:VCALENDAR