BEGIN:VCALENDAR
VERSION:2.0
PRODID:-//hacksw/handcal//NONSGML v1.0//EN
CALSCALE:GREGORIAN
BEGIN:VEVENT
DTSTART:20250115T100000Z
DTEND:20250115T110000Z
UID:e27624
DTSTAMP:20260420T155047Z
LOCATION:Gerhard M.J. Schmidt Lecture Hall
DESCRIPTION:“Evolution of nervous systems - a view from nematodes"
SUMMARY:“Evolution of nervous systems - a view from nematodes"
END:VEVENT
END:VCALENDAR