BEGIN:VCALENDAR
VERSION:2.0
PRODID:-//hacksw/handcal//NONSGML v1.0//EN
CALSCALE:GREGORIAN
BEGIN:VEVENT
DTSTART:20241031T110000Z
DTEND:20241031T120000Z
UID:e27636
DTSTAMP:20260422T151333Z
LOCATION:Max and Lillian Candiotty Building
DESCRIPTION:Precision nanomedicine and bioengineering approaches for cancer therapy
SUMMARY:Precision nanomedicine and bioengineering approaches for cancer therapy
END:VEVENT
END:VCALENDAR