BEGIN:VCALENDAR
VERSION:2.0
PRODID:-//hacksw/handcal//NONSGML v1.0//EN
CALSCALE:GREGORIAN
BEGIN:VEVENT
DTSTART:20241015T080000Z
DTEND:20241015T080000Z
UID:e27642
DTSTAMP:20260422T041915Z
LOCATION:Nella and Leon Benoziyo Building for Plant and Environmental Sciences
DESCRIPTION:PhD Defense Seminar- Yael Wagner
SUMMARY:PhD Defense Seminar- Yael Wagner
END:VEVENT
END:VCALENDAR