BEGIN:VCALENDAR
VERSION:2.0
PRODID:-//hacksw/handcal//NONSGML v1.0//EN
CALSCALE:GREGORIAN
BEGIN:VEVENT
DTSTART:20250702T073000Z
DTEND:20250702T093000Z
UID:e27660
DTSTAMP:20260419T074525Z
LOCATION:Camelia Botnar Building
DESCRIPTION:students seminar series- Azrieli 
SUMMARY:students seminar series- Azrieli 
END:VEVENT
END:VCALENDAR