BEGIN:VCALENDAR
VERSION:2.0
PRODID:-//hacksw/handcal//NONSGML v1.0//EN
CALSCALE:GREGORIAN
BEGIN:VEVENT
DTSTART:20251001T073000Z
DTEND:20251001T093000Z
UID:e27664
DTSTAMP:20260422T182649Z
LOCATION:Camelia Botnar Building
DESCRIPTION:students seminar series- Azrieli 
SUMMARY:students seminar series- Azrieli 
END:VEVENT
END:VCALENDAR