BEGIN:VCALENDAR
VERSION:2.0
PRODID:-//hacksw/handcal//NONSGML v1.0//EN
CALSCALE:GREGORIAN
BEGIN:VEVENT
DTSTART:20241013T101500Z
DTEND:20241013T113000Z
UID:e27672
DTSTAMP:20260421T085120Z
LOCATION:Edna and K.B. Weissman Building of Physical Sciences
DESCRIPTION:The Clore Center for Biological Physics
SUMMARY:The Clore Center for Biological Physics
END:VEVENT
END:VCALENDAR