BEGIN:VCALENDAR
VERSION:2.0
PRODID:-//hacksw/handcal//NONSGML v1.0//EN
CALSCALE:GREGORIAN
BEGIN:VEVENT
DTSTART:19691231T160000Z
DTEND:19691231T160000Z
UID:e27674
DTSTAMP:20260420T003404Z
LOCATION:The David Lopatie Conference Centre
DESCRIPTION:Minerva Annual Meeting 2026
SUMMARY:Minerva Annual Meeting 2026
END:VEVENT
END:VCALENDAR