BEGIN:VCALENDAR
VERSION:2.0
PRODID:-//hacksw/handcal//NONSGML v1.0//EN
CALSCALE:GREGORIAN
BEGIN:VEVENT
DTSTART:20241103T080000Z
DTEND:20241103T080000Z
UID:e27676
DTSTAMP:20260423T053951Z
LOCATION:Sussman Family Building for Environmental Sciences
DESCRIPTION:Forensic seismic evidence for precursory mobilization in Gaza leading to the October 7 terrorist attack
SUMMARY:Forensic seismic evidence for precursory mobilization in Gaza leading to the October 7 terrorist attack
END:VEVENT
END:VCALENDAR