BEGIN:VCALENDAR
VERSION:2.0
PRODID:-//hacksw/handcal//NONSGML v1.0//EN
CALSCALE:GREGORIAN
BEGIN:VEVENT
DTSTART:20241110T080000Z
DTEND:20241110T080000Z
UID:e27678
DTSTAMP:20260422T142606Z
LOCATION:Sussman Family Building for Environmental Sciences
DESCRIPTION:Late Oxygenation of Marine Environments Revealed by Dolomite U-Pb Dating
SUMMARY:Late Oxygenation of Marine Environments Revealed by Dolomite U-Pb Dating
END:VEVENT
END:VCALENDAR