BEGIN:VCALENDAR
VERSION:2.0
PRODID:-//hacksw/handcal//NONSGML v1.0//EN
CALSCALE:GREGORIAN
BEGIN:VEVENT
DTSTART:20241111T081500Z
DTEND:20241111T091500Z
UID:e27710
DTSTAMP:20260421T223145Z
LOCATION:Jacob Ziskind Building
DESCRIPTION:Foundations of Computer Science Seminar
SUMMARY:Foundations of Computer Science Seminar
END:VEVENT
END:VCALENDAR