BEGIN:VCALENDAR
VERSION:2.0
PRODID:-//hacksw/handcal//NONSGML v1.0//EN
CALSCALE:GREGORIAN
BEGIN:VEVENT
DTSTART:20241113T101500Z
DTEND:20241113T113000Z
UID:e27734
DTSTAMP:20260421T223144Z
LOCATION:Gerhard M.J. Schmidt Lecture Hall
DESCRIPTION:The Clore Center for Biological Physics
SUMMARY:The Clore Center for Biological Physics
END:VEVENT
END:VCALENDAR