BEGIN:VCALENDAR
VERSION:2.0
PRODID:-//hacksw/handcal//NONSGML v1.0//EN
CALSCALE:GREGORIAN
BEGIN:VEVENT
DTSTART:20241114T083000Z
DTEND:20241114T083000Z
UID:e27738
DTSTAMP:20260422T142559Z
LOCATION:Ullmann Building of Life Sciences
DESCRIPTION:PhD Thesis Defense - Hila Tishler (Prof. Ayelet Erez Lab)
SUMMARY:PhD Thesis Defense - Hila Tishler (Prof. Ayelet Erez Lab)
END:VEVENT
END:VCALENDAR