BEGIN:VCALENDAR
VERSION:2.0
PRODID:-//hacksw/handcal//NONSGML v1.0//EN
CALSCALE:GREGORIAN
BEGIN:VEVENT
DTSTART:20241111T111500Z
DTEND:20241111T130000Z
UID:e27742
DTSTAMP:20260422T142607Z
LOCATION:Jacob Ziskind Building
DESCRIPTION:Midrasha on Groups Seminar
SUMMARY:Midrasha on Groups Seminar
END:VEVENT
END:VCALENDAR