BEGIN:VCALENDAR
VERSION:2.0
PRODID:-//hacksw/handcal//NONSGML v1.0//EN
CALSCALE:GREGORIAN
BEGIN:VEVENT
DTSTART:20241211T070000Z
DTEND:20241211T080000Z
UID:e27772
DTSTAMP:20260421T224346Z
LOCATION:Arthur and Rochelle Belfer Building for Biomedical Research
DESCRIPTION:How sperm development shapes somatic evolution
SUMMARY:How sperm development shapes somatic evolution
END:VEVENT
END:VCALENDAR