BEGIN:VCALENDAR
VERSION:2.0
PRODID:-//hacksw/handcal//NONSGML v1.0//EN
CALSCALE:GREGORIAN
BEGIN:VEVENT
DTSTART:20241128T081500Z
DTEND:20241128T093000Z
UID:e27782
DTSTAMP:20260421T180746Z
LOCATION:Edna and K.B. Weissman Building of Physical Sciences
DESCRIPTION:Physics - Colloquium
SUMMARY:Physics - Colloquium
END:VEVENT
END:VCALENDAR