BEGIN:VCALENDAR
VERSION:2.0
PRODID:-//hacksw/handcal//NONSGML v1.0//EN
CALSCALE:GREGORIAN
BEGIN:VEVENT
DTSTART:20250122T093000Z
DTEND:20250122T110000Z
UID:e29950
DTSTAMP:20260420T155239Z
LOCATION:Gerhard M.J. Schmidt Lecture Hall
DESCRIPTION:The Tiny Tip’s Tremendous Touch
SUMMARY:The Tiny Tip’s Tremendous Touch
END:VEVENT
END:VCALENDAR