BEGIN:VCALENDAR
VERSION:2.0
PRODID:-//hacksw/handcal//NONSGML v1.0//EN
CALSCALE:GREGORIAN
BEGIN:VEVENT
DTSTART:20241202T111500Z
DTEND:20241202T130000Z
UID:e29966
DTSTAMP:20260421T150448Z
LOCATION:Jacob Ziskind Building
DESCRIPTION:Midrasha on Groups Seminar
SUMMARY:Midrasha on Groups Seminar
END:VEVENT
END:VCALENDAR