BEGIN:VCALENDAR
VERSION:2.0
PRODID:-//hacksw/handcal//NONSGML v1.0//EN
CALSCALE:GREGORIAN
BEGIN:VEVENT
DTSTART:20241222T100000Z
DTEND:20241222T110000Z
UID:e29972
DTSTAMP:20260421T085423Z
LOCATION:Nella and Leon Benoziyo Building for Plant and Environmental Sciences
DESCRIPTION:Making Climate Tech Work – Policies that Drive Innovation
SUMMARY:Making Climate Tech Work – Policies that Drive Innovation
END:VEVENT
END:VCALENDAR