BEGIN:VCALENDAR
VERSION:2.0
PRODID:-//hacksw/handcal//NONSGML v1.0//EN
CALSCALE:GREGORIAN
BEGIN:VEVENT
DTSTART:20241231T110000Z
DTEND:20241231T120000Z
UID:e30020
DTSTAMP:20260421T085333Z
LOCATION:Gerhard M.J. Schmidt Lecture Hall
DESCRIPTION:Go with the flow:  energetic robustness in bacterial photosynthesis
SUMMARY:Go with the flow:  energetic robustness in bacterial photosynthesis
END:VEVENT
END:VCALENDAR