BEGIN:VCALENDAR
VERSION:2.0
PRODID:-//hacksw/handcal//NONSGML v1.0//EN
CALSCALE:GREGORIAN
BEGIN:VEVENT
DTSTART:20250106T083000Z
DTEND:20250106T093000Z
UID:e30024
DTSTAMP:20260420T154959Z
LOCATION:
DESCRIPTION:From mechanisms to evolution: Understanding genetic variation with long-read sequencing
SUMMARY:From mechanisms to evolution: Understanding genetic variation with long-read sequencing
END:VEVENT
END:VCALENDAR