BEGIN:VCALENDAR
VERSION:2.0
PRODID:-//hacksw/handcal//NONSGML v1.0//EN
CALSCALE:GREGORIAN
BEGIN:VEVENT
DTSTART:20250108T070000Z
DTEND:20250108T080000Z
UID:e30046
DTSTAMP:20260420T155016Z
LOCATION:Arthur and Rochelle Belfer Building for Biomedical Research
DESCRIPTION:A single-cell view into the development and evolution of a complex morphology
SUMMARY:A single-cell view into the development and evolution of a complex morphology
END:VEVENT
END:VCALENDAR