BEGIN:VCALENDAR
VERSION:2.0
PRODID:-//hacksw/handcal//NONSGML v1.0//EN
CALSCALE:GREGORIAN
BEGIN:VEVENT
DTSTART:20250409T080000Z
DTEND:20250409T090000Z
UID:e30052
DTSTAMP:20260422T204951Z
LOCATION:Max and Lillian Candiotty Building
DESCRIPTION:Immunology and Regenerative Biology Colloquium
SUMMARY:Immunology and Regenerative Biology Colloquium
END:VEVENT
END:VCALENDAR