BEGIN:VCALENDAR
VERSION:2.0
PRODID:-//hacksw/handcal//NONSGML v1.0//EN
CALSCALE:GREGORIAN
BEGIN:VEVENT
DTSTART:20250102T091500Z
DTEND:20250102T101500Z
UID:e30054
DTSTAMP:20260421T004802Z
LOCATION:Jacob Ziskind Building
DESCRIPTION:Vision and AI
SUMMARY:Vision and AI
END:VEVENT
END:VCALENDAR