BEGIN:VCALENDAR
VERSION:2.0
PRODID:-//hacksw/handcal//NONSGML v1.0//EN
CALSCALE:GREGORIAN
BEGIN:VEVENT
DTSTART:20260617T093000Z
DTEND:20260617T110000Z
UID:e30070
DTSTAMP:20260419T231652Z
LOCATION:Nella and Leon Benoziyo Building for Biological Sciences
DESCRIPTION:Life Sciences Luncheon
SUMMARY:Life Sciences Luncheon
END:VEVENT
END:VCALENDAR