BEGIN:VCALENDAR
VERSION:2.0
PRODID:-//hacksw/handcal//NONSGML v1.0//EN
CALSCALE:GREGORIAN
BEGIN:VEVENT
DTSTART:20251105T093000Z
DTEND:20251105T110000Z
UID:e30074
DTSTAMP:20260421T172858Z
LOCATION:Nella and Leon Benoziyo Building for Biological Sciences
DESCRIPTION:Life Sciences Luncheon
SUMMARY:Life Sciences Luncheon
END:VEVENT
END:VCALENDAR