BEGIN:VCALENDAR
VERSION:2.0
PRODID:-//hacksw/handcal//NONSGML v1.0//EN
CALSCALE:GREGORIAN
BEGIN:VEVENT
DTSTART:20250101T081500Z
DTEND:20250101T091500Z
UID:e30084
DTSTAMP:20260421T224340Z
LOCATION:Jacob Ziskind Building
DESCRIPTION:Machine Learning and Statistics Seminar
SUMMARY:Machine Learning and Statistics Seminar
END:VEVENT
END:VCALENDAR