BEGIN:VCALENDAR
VERSION:2.0
PRODID:-//hacksw/handcal//NONSGML v1.0//EN
CALSCALE:GREGORIAN
BEGIN:VEVENT
DTSTART:20250112T080000Z
DTEND:20250112T090000Z
UID:e30086
DTSTAMP:20260420T155028Z
LOCATION:Jacob Ziskind Building
DESCRIPTION:Vision and AI
SUMMARY:Vision and AI
END:VEVENT
END:VCALENDAR