BEGIN:VCALENDAR
VERSION:2.0
PRODID:-//hacksw/handcal//NONSGML v1.0//EN
CALSCALE:GREGORIAN
BEGIN:VEVENT
DTSTART:20250105T080000Z
DTEND:20250105T093000Z
UID:e30102
DTSTAMP:20260421T102927Z
LOCATION:
DESCRIPTION:Anatomical organization of the human hippocampal system
SUMMARY:Anatomical organization of the human hippocampal system
END:VEVENT
END:VCALENDAR