BEGIN:VCALENDAR
VERSION:2.0
PRODID:-//hacksw/handcal//NONSGML v1.0//EN
CALSCALE:GREGORIAN
BEGIN:VEVENT
DTSTART:20250108T081500Z
DTEND:20250108T094500Z
UID:e30104
DTSTAMP:20260421T085105Z
LOCATION:
DESCRIPTION:The Computational and Neural Basis of Cognitive Dynamics and Diversity
SUMMARY:The Computational and Neural Basis of Cognitive Dynamics and Diversity
END:VEVENT
END:VCALENDAR