BEGIN:VCALENDAR
VERSION:2.0
PRODID:-//hacksw/handcal//NONSGML v1.0//EN
CALSCALE:GREGORIAN
BEGIN:VEVENT
DTSTART:20250130T081500Z
DTEND:20250130T093000Z
UID:e30142
DTSTAMP:20260420T194143Z
LOCATION:
DESCRIPTION:In honor of the 100th birthday of Prof. Yigal Talmi
SUMMARY:In honor of the 100th birthday of Prof. Yigal Talmi
END:VEVENT
END:VCALENDAR