BEGIN:VCALENDAR
VERSION:2.0
PRODID:-//hacksw/handcal//NONSGML v1.0//EN
CALSCALE:GREGORIAN
BEGIN:VEVENT
DTSTART:20250112T080000Z
DTEND:20250112T090000Z
UID:e30150
DTSTAMP:20260423T033835Z
LOCATION:
DESCRIPTION:Expansion and contraction of global desert belts during the Late Quaternary
SUMMARY:Expansion and contraction of global desert belts during the Late Quaternary
END:VEVENT
END:VCALENDAR