BEGIN:VCALENDAR
VERSION:2.0
PRODID:-//hacksw/handcal//NONSGML v1.0//EN
CALSCALE:GREGORIAN
BEGIN:VEVENT
DTSTART:20250128T110000Z
DTEND:20250128T120000Z
UID:e30162
DTSTAMP:20260421T051437Z
LOCATION:Gerhard M.J. Schmidt Lecture Hall
DESCRIPTION:From Microbes to Human Brains: Unraveling and Targeting Amyloids via Advanced Structural Biology Tools
SUMMARY:From Microbes to Human Brains: Unraveling and Targeting Amyloids via Advanced Structural Biology Tools
END:VEVENT
END:VCALENDAR