BEGIN:VCALENDAR
VERSION:2.0
PRODID:-//hacksw/handcal//NONSGML v1.0//EN
CALSCALE:GREGORIAN
BEGIN:VEVENT
DTSTART:20250206T060000Z
DTEND:20250206T070000Z
UID:e30188
DTSTAMP:20260421T034651Z
LOCATION:
DESCRIPTION:Novel informatics approaches to solving  biological puzzles
SUMMARY:Novel informatics approaches to solving  biological puzzles
END:VEVENT
END:VCALENDAR