BEGIN:VCALENDAR
VERSION:2.0
PRODID:-//hacksw/handcal//NONSGML v1.0//EN
CALSCALE:GREGORIAN
BEGIN:VEVENT
DTSTART:20250119T080000Z
DTEND:20250119T090000Z
UID:e30190
DTSTAMP:20260422T142604Z
LOCATION:Sussman Family Building for Environmental Sciences
DESCRIPTION:Allochthonous groundwater microorganisms affect coastal seawater microbial abundance\, activity and diversity
SUMMARY:Allochthonous groundwater microorganisms affect coastal seawater microbial abundance\, activity and diversity
END:VEVENT
END:VCALENDAR