BEGIN:VCALENDAR
VERSION:2.0
PRODID:-//hacksw/handcal//NONSGML v1.0//EN
CALSCALE:GREGORIAN
BEGIN:VEVENT
DTSTART:20250211T110000Z
DTEND:20250211T120000Z
UID:e30222
DTSTAMP:20260419T185618Z
LOCATION:Max and Lillian Candiotty Building
DESCRIPTION:The cytokine TNF-α downregulates dopamine D1-like receptor-induced Arc and BDNF synaptic proteins.
SUMMARY:The cytokine TNF-α downregulates dopamine D1-like receptor-induced Arc and BDNF synaptic proteins.
END:VEVENT
END:VCALENDAR